BEGIN:VCALENDAR
VERSION:2.0
PRODID:-//The Blue and Grey - ECPv6.15.10//NONSGML v1.0//EN
CALSCALE:GREGORIAN
METHOD:PUBLISH
X-WR-CALNAME:The Blue and Grey
X-ORIGINAL-URL:https://theblueandgrey.com
X-WR-CALDESC:Events for The Blue and Grey
REFRESH-INTERVAL;VALUE=DURATION:PT1H
X-Robots-Tag:noindex
X-PUBLISHED-TTL:PT1H
BEGIN:VTIMEZONE
TZID:America/New_York
BEGIN:DAYLIGHT
TZOFFSETFROM:-0500
TZOFFSETTO:-0400
TZNAME:EDT
DTSTART:20250309T070000
END:DAYLIGHT
BEGIN:STANDARD
TZOFFSETFROM:-0400
TZOFFSETTO:-0500
TZNAME:EST
DTSTART:20251102T060000
END:STANDARD
BEGIN:DAYLIGHT
TZOFFSETFROM:-0500
TZOFFSETTO:-0400
TZNAME:EDT
DTSTART:20260308T070000
END:DAYLIGHT
BEGIN:STANDARD
TZOFFSETFROM:-0400
TZOFFSETTO:-0500
TZNAME:EST
DTSTART:20261101T060000
END:STANDARD
BEGIN:DAYLIGHT
TZOFFSETFROM:-0500
TZOFFSETTO:-0400
TZNAME:EDT
DTSTART:20270314T070000
END:DAYLIGHT
BEGIN:STANDARD
TZOFFSETFROM:-0400
TZOFFSETTO:-0500
TZNAME:EST
DTSTART:20271107T060000
END:STANDARD
END:VTIMEZONE
BEGIN:VEVENT
DTSTART;TZID=America/New_York:20260420T090000
DTEND;TZID=America/New_York:20260420T193000
DTSTAMP:20260420T040916
CREATED:20260420T005326Z
LAST-MODIFIED:20260420T005327Z
UID:9001-1776675600-1776713400@theblueandgrey.com
SUMMARY:SPIRE Symposium Celebrating Scholarship\, Performance\, Innovation\, Research & Experience
DESCRIPTION:
URL:https://theblueandgrey.com/index.php/event/spire-symposium-celebrating-scholarship-performance-innovation-research-experience/
LOCATION:Beneficial-Hodson Library 400 Hood College Drive Frederick MD 21701
END:VEVENT
END:VCALENDAR